BEGIN:VCALENDAR
VERSION:2.0
PRODID:tu-wien-informatics
CALSCALE:GREGORIAN
BEGIN:VTIMEZONE
TZID:Europe/Vienna
BEGIN:DAYLIGHT
DTSTART:20260329T030000
TZOFFSETFROM:+0100
TZOFFSETTO:+0200
RRULE:FREQ=YEARLY;BYDAY=-1SU;BYMONTH=3
TZNAME:CEST
END:DAYLIGHT
BEGIN:STANDARD
DTSTART:20261025T020000
TZOFFSETFROM:+0200
TZOFFSETTO:+0100
RRULE:FREQ=YEARLY;BYDAY=-1SU;BYMONTH=10
TZNAME:CET
END:STANDARD
END:VTIMEZONE
BEGIN:VEVENT
DTSTAMP:20260421T195818Z
UID:fb0d05f1b54fe7c4b3611a5d80bdde1a56a5eec1
DTSTART;TZID=Europe/Vienna:20260507T141500
DTEND;TZID=Europe/Vienna:20260507T160000
CLASS:PUBLIC
CREATED:20260420T220000
DESCRIPTION:Join us on May 7\, when Guest Lecturer Michael Muehlebach will 
 hold an Online Lecture on A Dynamical Systems View on Accelerated Optimiza
 tion!
LAST-MODIFIED:20260421T154543
SUMMARY:Michael Muehlebach: A Dynamical Systems View on Accelerated Optimiz
 ation
URL;VALUE=URI:https://informatics.tuwien.ac.at/news/3151?utm_campaign=feed&
 utm_term=calendar
CATEGORIES:Public Lecture
CATEGORIES:E194-06 Machine Learning
CATEGORIES:Machine Learning
END:VEVENT
END:VCALENDAR
